Workbook

Sheet Valor Máximo Aceitável
A1: Valor Máximo Aceitável para os serviços de Limpeza
A2: Planilha de Custos e Formação de Preços
A3: Em atenção ao disposto no Artigo 9º da Instrução Normativa SEGES/ME nº 65/2021, o item 2.9 do Anexo V da IN SEGES/MPOG nº 05/2017, e artigos 4º e 5º da Portaria SEGES/SEDGG/ME nº 21.262/2020, foi elaborada a presente planilha para identificação dos valores máximos aceitáveis para a contratação dos serviços de apoio administrativo para a SEMS/TO. Para os cálculos realizados foram considerados a Convenção Coletiva de Trabalho firmada entre o Sindicato dos Trabalhadores em Empresas de Asseio, Conservação Ambiental e Pública do Estado do Tocantins e o Sindicato das Empresas de Asseio, Conservação, Limpeza Urbana e Terceirização de Mão-de-Obra do Estado do Tocantins, registrada sob o número TO000012/2026; A legislação sobre o tema; e demais orientação aplicáveis ao caso.
B5: Processo nº: | C5: 25026.000357/2026-78
A7: A | B7: Acordo, Convenção ou Sentença em Dissídio Coletivo | G7: TO000012/2026
A8: B | B8: Nº de Meses da Execução Contratual | G8: 12
A11: Valor Máximo Aceitável
A12: Item | B12: Especificação | C12: CATSER | D12: Quantidade de Postos | E12: Meses de Execução Contratual | F12: Valor (Posto/Mês) | G12: Valor Mensal (R$) | H12: Valor Anual (R$)
A13: 1 | B13: Apoio Administrativo - Auxiliar Administrativo | C13: 5380 | D13: 12 | E13: =G8 -> 12 | F13: ='Auxiliar Adm.'!H116 -> 6721.0031 | G13: =D13*F13 -> 80652.038 | H13: =G13*E13 -> 967824.45
A14: 2 | B14: Apoio Administrativo - Analsita Administrativo | C14: 5380 | D14: 3 | F14: ='Analista Adm.'!H116 -> 11163.014 | G14: =D14*F14 -> 33489.042 | H14: =G14*E13 -> 401868.51
A15: Valor Total | G15: =SUM(G13:G14) -> 114141.08 | H15: =SUM(H13:H14) -> 1369693

Sheet Auxiliar Adm.
A1: Valor Máximo Aceitável para os serviços de Limpeza
A2: Planilha de Custos e Formação de Preços
A3: ='Valor Máximo Aceitável'!A3:H3 -> Em atenção ao disposto no Artigo 9º da Instrução Normativa SEGES/ME nº 65/2021, o item 2.9 do Anexo V da IN SEGES/MPOG nº 05/2017, e artigos 4º e 5º da Portaria SEGES/SEDGG/ME nº 21.262/2020, foi elaborada a presente planilha para identificação dos valores máximos aceitáveis para a contratação dos serviços de apoio administrativo para a SEMS/TO. Para os cálculos realizados foram considerados a Convenção Coletiva de Trabalho firmada entre o Sindicato dos Trabalhadores em Empresas de Asseio, Conservação Ambiental e Pública do Estado do Tocantins e o Sindicato das Empresas de Asseio, Conservação, Limpeza Urbana e Terceirização de Mão-de-Obra do Estado do Tocantins, registrada sob o número TO000012/2026; A legislação sobre o tema; e demais orientação aplicáveis ao caso.
B5: Processo nº: | C5: ='Valor Máximo Aceitável'!C5:G5 -> 25026.000357/2026-78
K6: INFOMAÇÕES E DADOS PARA CÁLCULO
A7: A | B7: Acordo, Convenção ou Sentença em Dissídio Coletivo | G7: ='Valor Máximo Aceitável'!G7:H7 -> TO000012/2026 | K7: Informar qual a CCT Base e o Ano
A8: B | B8: Nº de Meses da Execução Contratual | G8: ='Valor Máximo Aceitável'!G8:H8 -> 12 | K8: Informar o nº de meses de execução contratual de acordo com o TR
A10: MÃO DE OBRA
A12: MÃO DE OBRA VINCULADA À EXECUÇÃO CONTRATUAL
A13: Dados complementares para a composição de custo referente à Mão de Obra
A14: 1 | B14: Tipo de Serviço | H14: Apoio Administrativo | K14: Informar o Tipo de Serviço.
A15: 2 | B15: Classificação Brasileira de Ocupações | H15: 4110-05 | K15: Informar o CBO da Ocupação.
A16: 3 | B16: Categoria Profissional | H16: Auxiliar Administrativo | K16: Informar a Categoria Profissional.
A17: 4 | B17: Salário Normativo da Categoria Profissional | H17: 2091.61 | K17: Informar o Salário Normativo na CCT.
A18: 5 | B18: Data Base da Categoria | H18: 46023 | K18: Informar Data Base da Categoria.
A20: MÓDULO 01 - COMPOSIÇÃO DA REMUNERAÇÃO
A21: 1 | B21: Composição da Remuneração | H21: Valor (R$)
A22: A | B22: Salário Base | H22: =H17 -> 2091.61 | K22: Salário Base contido na CCT ou qualquer valor acima deste.
A23: B | B23: Outros (Especificar)
A24: Total do Módulo 01 | H24: =SUM(H22:I23) -> 2091.61 | K24: Soma dos itens A e B.
A26: MÓDULO 02 - ENCARGOS E BENEFÍCIOS ANUAIS MENSAIS E DIÁRIOS
A27: 2.1 | B27: Submódulo 2.1 - 13º Salário e Adicional de Férias | H27: (%) | I27: Valor (R$)
A28: A | B28: 13º Salário | H28: =1/12 -> 0.083333333 | I28: =ROUND($H$24*H28,2) -> 174.3 | K28: Cálculo = 1/12 (H28) x Remuneração (H24).
A29: B | B29: Adicional de Férias | H29: =(4/3)/12 -> 0.11111111 | I29: =ROUND($H$24*H29,2) -> 232.4 | K29: Cálculo = 1 salário + 1/3 referente ao Adicional de Férias (4/3) dividido por 12 (H29) x Remuneração (H24).
A30: Total do Submódulo 2.1 | H30: =SUM(H28:H29) -> 0.19444444 | I30: =ROUND(SUM(I28:I29),2) -> 406.7 | K30: Soma dos itens A e B.
A32: 2.2 | B32: Submódulo 2.2 - GPS, FGTS e outras contribuições | H32: (%) | I32: Valor (R$)
A33: A | B33: INSS | H33: 0.2 | I33: =ROUND(H33*($H$24+$I$30),2) -> 499.66 | K33: Cálculo = Percentual Legal de 20% (H33) x (Total da Remuneração (H24) + Total do Submódulo 2.1 (I30)).
A34: B | B34: Salário Educação | H34: 0.025 | I34: =ROUND(H34*($H$24+$I$30),2) -> 62.46 | K34: Cálculo = Percentual Legal de 2,50% (H34) x (Total da Remuneração (H24) + Total do Submódulo 2.1 (I33)).
A35: C | B35: Seguro Acidente do Trabalho (RATxFAP) | D35: RAT | E35: 3 | F35: FAT | G35: 2 | H35: =E35*G35/100 -> 0.06 | I35: =ROUND(H35*($H$24+$I$30),2) -> 149.9 | K35: Cálculo = Multiplicação dos Fatores RAT x FAT - Valor que poderá ser no máximo de 6% (H35) x (Total da Remuneração (H24) + Total do Submódulo 2.1 (I30)).
A36: D | B36: SESC ou SESI | H36: 0.015 | I36: =ROUND(H36*($H$24+$I$30),2) -> 37.47 | K36: Cálculo = Percentual Legal de 1,50% (H36) x (Total da Remuneração (H24) + Total do Submódulo 2.1 (I30)).
A37: E | B37: SENAI ou SENAC | H37: 0.01 | I37: =ROUND(H37*($H$24+$I$30),2) -> 24.98 | K37: Cálculo = Percentual Legal de 1,00% (H37) x (Total da Remuneração (H24) + Total do Submódulo 2.1 (I30)).
A38: F | B38: SEBRAE | H38: 0.006 | I38: =ROUND(H38*($H$24+$I$30),2) -> 14.99 | K38: Cálculo = Percentual Legal de 0,60% (H38) x (Total da Remuneração (H24) + Total do Submódulo 2.1 (I30)).
A39: G | B39: INCRA | H39: 0.002 | I39: =ROUND(H39*($H$24+$I$30),2) -> 5 | K39: Cálculo = Percentual Legal de 0,20% (H39) x (Total da Remuneração (H24) + Total do Submódulo 2.1 (I30)).
A40: H | B40: FGTS | H40: 0.08 | I40: =ROUND(H40*($H$24+$I$30),2) -> 199.86 | K40: Cálculo = Percentual Legal de 8,00% (H40) x (Total da Remuneração (H24) + Total do Submódulo 2.1 (I30)).
A41: Total do Submódulo 2.2 | H41: =SUM(H33:H40) -> 0.398 | I41: =SUM(I33:I40) -> 994.32 | K41: Soma dos Itens A a H.
A43: 2.3 | B43: Submódulo 2.3 - Benefícios Mensais e Diários | H43: Valor (R$)
A44: A | B44: Transporte | C44: Sim/Não | D44: Valor (R$) | E44: Passagens | F44: Dias | G44: Desconto | H44: =IF(C45="S",(D45*E45*F45)-G45,"") -> 87.9 | K44: Caso não seja previsto Auxílio Transporte, marcar a opção "N" no Campo C45.
C45: S | D45: 4.85 | E45: 2 | F45: 22 | G45: =IF(C45="N","",IF(H22>0,ROUND(0.06*H22,2),"")) -> 125.5 | K45: Cálculo = Valor Unitário da Passagem (D45) x Quant. (E45) x Total de Dias (F45) - Desconto Legal (G45) de 6% do Salário Base (H22).
A46: B | B46: Auxílio Refeição/Alimentação | D46: Sim/Não | E46: Valor (R$) | G46: Desconto | H46: =IF(D47="S",ROUND((E47)*(1-G47),2),"") -> 911.49 | K46: Caso não seja previsto Auxílio Alimentaçõ/Refeição, marcar a opção "N" no Campo D47.
D47: S | E47: 920.7 | G47: 0.01 | K47: Cálculo = Valor Total do Vale (E47) - Desconto percentual (verificar se há ou não desconto na CCT e aplicar).
...

Sheet Analista Adm.
A1: Valor Máximo Aceitável para os serviços de Limpeza
A2: Planilha de Custos e Formação de Preços
A3: ='Valor Máximo Aceitável'!A3:H3 -> Em atenção ao disposto no Artigo 9º da Instrução Normativa SEGES/ME nº 65/2021, o item 2.9 do Anexo V da IN SEGES/MPOG nº 05/2017, e artigos 4º e 5º da Portaria SEGES/SEDGG/ME nº 21.262/2020, foi elaborada a presente planilha para identificação dos valores máximos aceitáveis para a contratação dos serviços de apoio administrativo para a SEMS/TO. Para os cálculos realizados foram considerados a Convenção Coletiva de Trabalho firmada entre o Sindicato dos Trabalhadores em Empresas de Asseio, Conservação Ambiental e Pública do Estado do Tocantins e o Sindicato das Empresas de Asseio, Conservação, Limpeza Urbana e Terceirização de Mão-de-Obra do Estado do Tocantins, registrada sob o número TO000012/2026; A legislação sobre o tema; e demais orientação aplicáveis ao caso.
B5: Processo nº: | C5: ='Valor Máximo Aceitável'!C5:G5 -> 25026.000357/2026-78
K6: INFOMAÇÕES E DADOS PARA CÁLCULO
A7: A | B7: Acordo, Convenção ou Sentença em Dissídio Coletivo | G7: ='Valor Máximo Aceitável'!G7:H7 -> TO000012/2026 | K7: Informar qual a CCT Base e o Ano
A8: B | B8: Nº de Meses da Execução Contratual | G8: ='Valor Máximo Aceitável'!G8:H8 -> 12 | K8: Informar o nº de meses de execução contratual de acordo com o TR
A10: MÃO DE OBRA
A12: MÃO DE OBRA VINCULADA À EXECUÇÃO CONTRATUAL
A13: Dados complementares para a composição de custo referente à Mão de Obra
A14: 1 | B14: Tipo de Serviço | H14: Apoio Administrativo | K14: Informar o Tipo de Serviço.
A15: 2 | B15: Classificação Brasileira de Ocupações | H15: 2521-05 | K15: Informar o CBO da Ocupação.
A16: 3 | B16: Categoria Profissional | H16: Analista Administrativo | K16: Informar a Categoria Profissional.
A17: 4 | B17: Salário Normativo da Categoria Profissional | H17: 3918.16 | K17: Informar o Salário Normativo na CCT.
A18: 5 | B18: Data Base da Categoria | H18: 46023 | K18: Informar Data Base da Categoria.
A20: MÓDULO 01 - COMPOSIÇÃO DA REMUNERAÇÃO
A21: 1 | B21: Composição da Remuneração | H21: Valor (R$)
A22: A | B22: Salário Base | H22: =H17 -> 3918.16 | K22: Salário Base contido na CCT ou qualquer valor acima deste.
A23: B | B23: Outros (Especificar)
A24: Total do Módulo 01 | H24: =SUM(H22:I23) -> 3918.16 | K24: Soma dos itens A e B.
A26: MÓDULO 02 - ENCARGOS E BENEFÍCIOS ANUAIS MENSAIS E DIÁRIOS
A27: 2.1 | B27: Submódulo 2.1 - 13º Salário e Adicional de Férias | H27: (%) | I27: Valor (R$)
A28: A | B28: 13º Salário | H28: =1/12 -> 0.083333333 | I28: =ROUND($H$24*H28,2) -> 326.51 | K28: Cálculo = 1/12 (H28) x Remuneração (H24).
A29: B | B29: Adicional de Férias | H29: =(4/3)/12 -> 0.11111111 | I29: =ROUND($H$24*H29,2) -> 435.35 | K29: Cálculo = 1 salário + 1/3 referente ao Adicional de Férias (4/3) dividido por 12 (H29) x Remuneração (H24).
A30: Total do Submódulo 2.1 | H30: =SUM(H28:H29) -> 0.19444444 | I30: =ROUND(SUM(I28:I29),2) -> 761.86 | K30: Soma dos itens A e B.
A32: 2.2 | B32: Submódulo 2.2 - GPS, FGTS e outras contribuições | H32: (%) | I32: Valor (R$)
A33: A | B33: INSS | H33: 0.2 | I33: =ROUND(H33*($H$24+$I$30),2) -> 936 | K33: Cálculo = Percentual Legal de 20% (H33) x (Total da Remuneração (H24) + Total do Submódulo 2.1 (I30)).
A34: B | B34: Salário Educação | H34: 0.025 | I34: =ROUND(H34*($H$24+$I$30),2) -> 117 | K34: Cálculo = Percentual Legal de 2,50% (H34) x (Total da Remuneração (H24) + Total do Submódulo 2.1 (I33)).
A35: C | B35: Seguro Acidente do Trabalho (RATxFAP) | D35: RAT | E35: 3 | F35: FAT | G35: 2 | H35: =E35*G35/100 -> 0.06 | I35: =ROUND(H35*($H$24+$I$30),2) -> 280.8 | K35: Cálculo = Multiplicação dos Fatores RAT x FAT - Valor que poderá ser no máximo de 6% (H35) x (Total da Remuneração (H24) + Total do Submódulo 2.1 (I30)).
A36: D | B36: SESC ou SESI | H36: 0.015 | I36: =ROUND(H36*($H$24+$I$30),2) -> 70.2 | K36: Cálculo = Percentual Legal de 1,50% (H36) x (Total da Remuneração (H24) + Total do Submódulo 2.1 (I30)).
A37: E | B37: SENAI ou SENAC | H37: 0.01 | I37: =ROUND(H37*($H$24+$I$30),2) -> 46.8 | K37: Cálculo = Percentual Legal de 1,00% (H37) x (Total da Remuneração (H24) + Total do Submódulo 2.1 (I30)).
A38: F | B38: SEBRAE | H38: 0.006 | I38: =ROUND(H38*($H$24+$I$30),2) -> 28.08 | K38: Cálculo = Percentual Legal de 0,60% (H38) x (Total da Remuneração (H24) + Total do Submódulo 2.1 (I30)).
A39: G | B39: INCRA | H39: 0.002 | I39: =ROUND(H39*($H$24+$I$30),2) -> 9.36 | K39: Cálculo = Percentual Legal de 0,20% (H39) x (Total da Remuneração (H24) + Total do Submódulo 2.1 (I30)).
A40: H | B40: FGTS | H40: 0.08 | I40: =ROUND(H40*($H$24+$I$30),2) -> 374.4 | K40: Cálculo = Percentual Legal de 8,00% (H40) x (Total da Remuneração (H24) + Total do Submódulo 2.1 (I30)).
A41: Total do Submódulo 2.2 | H41: =SUM(H33:H40) -> 0.398 | I41: =SUM(I33:I40) -> 1862.64 | K41: Soma dos Itens A a H.
A43: 2.3 | B43: Submódulo 2.3 - Benefícios Mensais e Diários | H43: Valor (R$)
A44: A | B44: Transporte | C44: Sim/Não | D44: Valor (R$) | E44: Passagens | F44: Dias | G44: Desconto | H44: =IF(AND(C45="S",(D45*E45*F45)-G45>0),(D45*E45*F45)-G45,0) -> 0 | K44: Caso não seja previsto Auxílio Transporte, marcar a opção "N" no Campo C45.
C45: S | D45: 4.85 | E45: 2 | F45: 22 | G45: =IF(C45="N","",IF(H22>0,ROUND(0.06*H22,2),"")) -> 235.09 | K45: Cálculo = Valor Unitário da Passagem (D45) x Quant. (E45) x Total de Dias (F45) - Desconto Legal (G45) de 6% do Salário Base (H22).
A46: B | B46: Auxílio Refeição/Alimentação | D46: Sim/Não | E46: Valor (R$) | G46: Desconto | H46: =IF(D47="S",ROUND((E47)*(1-G47),2),"") -> 911.49 | K46: Caso não seja previsto Auxílio Alimentaçõ/Refeição, marcar a opção "N" no Campo D47.
D47: S | E47: ='Auxiliar Adm.'!E47:F47 -> 920.7 | G47: 0.01 | K47: Cálculo = Valor Total do Vale (E47) - Desconto percentual (verificar se há ou não desconto na CCT e aplicar).
...

Sheet Uniformes
A1: UNIFORMES
B2: Descrição | C2: Valor Un. (R$) | D2: Qt. Anual | E2: Valor 1º Ano (R$)
A3: 1 | B3: Camisa Material: 100% Algodão, Tipo: Polo, Modelo Manga: Curta, Tipo Gola: Pólo , Cor: Escura (pref. Preto, cinza, azul ou verde). | C3: 45 | D3: 5 | E3: =IF(C3<>"",C3*(D3),"") -> 225
A4: 2 | B4: Calça Material: 100% Algodão, Quantidade Bolsos: 4, Tipo Bolso: 2 Frontais Faca E 2 Traseiros Chapados, Tipo Cós: Fechamento Frontal Com Zíper E Botão , Cor: Escura, Características Adicionais: Com Passadores Para Cinto. | C4: 59.99 | D4: 3 | E4: =IF(C4<>"",C4*(D4),"") -> 179.97
A5: 3 | B5: Meia, Material: 70% Algodao 25% Poliamida E 5% Elastodieno, Cor: Preta, Tamanho: Único, Características Adicionais: Cano Médio. | C5: 3.99 | D5: 5 | E5: =IF(C5<>"",C5*(D5),"") -> 19.95
A6: 4 | B6: Cinto Vestuário Material: Couro , Cor: Preto/Marrom , Material Fivela: Metal Prateado , Tamanho: Grande , Características Adicionais: Dupla Face | C6: 71 | D6: 1 | E6: =IF(C6<>"",C6*(D6),"") -> 71
A7: 5 | B7: Sapato social, preto, couro | C7: 169.9 | D7: 2 | E7: =IF(C7<>"",C7*(D7),"") -> 339.8
A8: 6 | B8: Crachá | C8: 5.15 | D8: 1 | E8: =IF(C8<>"",C8*(D8),"") -> 5.15
A9: Valor total | E9: =SUM(E3:E8) -> 840.87
A10: Total de meses de Contratação | E10: ='Auxiliar Adm.'!G8 -> 12
A11: Custo Mensal por Empregado | E11: =IF(AND(E9>0,E10<>""),ROUND(E9/E10,2),"") -> 70.07
C13: .

Sheet Equipamento
A1: EQUIPAMENTO
B2: Descrição | C2: Valor Un. (R$) | D2: Qt. Anual | E2: Valor 1º Ano (R$)
A3: 1 | B3: Relógio Ponto Mostrador: Digital , Tipo: Biométrico , Características Adicionais: Teclas Em Padrão Telefônico , Alimentação: 110/200 | C3: 1699.9 | D3: 1 | E3: =IF(C3<>"",C3*(D3),"") -> 1699.9
A4: Valor total | E4: =SUM(E3:E3) -> 1699.9
A5: Total de meses de Contratação | E5: ='Auxiliar Adm.'!G8 -> 12
A6: Total de empregados | E6: =('Valor Máximo Aceitável'!D13+'Valor Máximo Aceitável'!D14) -> 15
A7: Custo Mensal por Empregado | E7: =IF(AND(E4>0,E5<>""),ROUND((E4/E5)/E6,2),"") -> 9.44
