Workbook

Sheet VALOR ESTIMADO
B2: VALOR TOTAL ESTIMADO
B3: SEMS | C3: Item | D3: Descrição | E3: Qtd Postos | F3: Valor Máximo do Posto | G3: Valor Mensal Posto | H3: Valor Anual Posto
B5: G6 - SEMS/TO | C5: 1 | D5: Apoio Administrativo - Nível Médio - TO | E5: 12 | F5: =POSTOS!E188 -> 4867.34 | G5: =F5*E5 -> 58408.08 | H5: =G5*12 -> 700896.96 | J5: =F5*12 -> 58408.08
C6: 2 | D6: Apoio Administrativo - Nível Superior - TO | E6: 3 | F6: =POSTOS!F188 -> 8042.74 | G6: =F6*E6 -> 24128.22 | H6: =G6*12 -> 289538.64 | J6: =F6*12 -> 96512.88
C7: TOTAL TOCANTINS - PALMAS | G7: =SUM(G5:G6) -> 82536.3 | H7: =SUM(H5:H6) -> 990435.6

Sheet POSTOS
B2: MODELO DE PLANILHA DE CUSTOS E FORMAÇÃO DE PREÇOS - IN 05/2017 e alterações
B4: Módulo 1 - Composição da Remuneração (Redação dada pela Instrução Normativa nº 7, de 2018)
E5: TOCANTINS - PALMAS
E6: CCT 2025/2026 - TO000044/2025
E7: Apoio - NM | F7: Apoio- NS
B8: CARGO UTILIZADO COM BASE NA CCT | E8: Aux. Adm. | F8: Analista Adm.
B9: 1 | C9: Composição da Remuneração | D9: Percentual | E9: Valor (R$) | F9: Valor (R$)
B10: A | C10: Salário-Base | E10: 1958.62 | F10: 3669.04
B11: B | C11: Adicional de Insalubridade
B12: C | C12: Adicional de Insalubridade
B13: D | C13: Adicional Noturno - 22h00 às 05h00
B14: E | C14: Adicional de Hora Noturna Reduzida
B15: F | C15: Adicional de Periculosidade
B16: Total | E16: =SUM(E10:E15) -> 1958.62 | F16: =SUM(F10:F15) -> 3669.04
B17: G | C17: Incidência dos Encargos do Submódulo 2.2 sobre a composição da remuneração | D17: =D52 -> 0.358 | E17: =$D$17*E16 -> 701.18596 | F17: =$D$17*F16 -> 1313.5163
B19: Nota: O Módulo 1 refere-se ao valor mensal devido ao empregado pela prestação do serviço.
B20: Nota Equipe de Planejamento: Foi criada a alínea "G" na qual aplicamos o total dos percentuais do Submódulo 2.2 sobre o Módulo 1. Em virtude da incidência contida na alínea "G" esses percentuais foram excluídos do Submódulo 2.2.
B21: Nota Equipe de Planejamento: Os valores dos salários foram retirados da Cláusula Terceira - Salário Mínimo da Categoria e Pisos Salariais da Convenção Coletiva de Trabalho 2023/2023 - SEAC/DF x SITTRATER/DF nº de Registro no MTE DF000037/2023.
B22: Nota Equipe de Planejamento - Cálculo do Adicional Noturno: Salário-hora = Salário-base/Divisor de horas mensais. Adicional Noturno = (Salário-hora x Percentual do Adicional) x Nº horas previstas diariamente x Nº médio de dias trabalhados. Onde: Salário-base: salário definido para o posto. Divisor de horas mensais: para a jornada de 44h semanais, o divisor aplicável é de 220 horas. Percentual do Adicional: acréscimo de no mínimo 20% (vinte por cento) sobre o valor da hora diurna, salvo determinação de percentual superior estabelecido em CCT. Número de horas previstas diariamente: no caso em tela, para os postos com previsão de horário de trabalho até 00h, foram consideradas 2h. Destaca-se que o pagamento será pelo efetivo consumo/utilização. Número médio de dias trabalhados: (365 dias/12 meses = 30,42 dias) x (5 dias (seg-sex) / 7 dias por semana) = 21,73 dias - [12 feriados no ano * (probabilidade de não coincidir com sábado e domingo 5/7) / 12 meses] = 21,01 dias/mês.
B23: Nota Equipe de Planejamento - Cálculo da Hora Noturna Reduzida: Salário-hora com adicional noturno = (Salário-base/Divisor de horas mensais) x 120%. Adicional de Hora Noturna Reduzida = (Nº horas previstas diariamente x Nº médio de dias trabalhados) x (Fator de conversão) x (Salário-hora acrescido do Adicional Noturno). Onde: Salário-base: salário definido para o posto.Divisor de horas mensais: para a jornada de 44h semanais, o divisor aplicável é de 220 horas.Número de horas previstas diariamente: no caso em tela, para os postos com previsão de horário de trabalho até 00h, foram consideradas 2h. Destaca-se que o pagamento será pelo efetivo consumo/utilização.Número médio de dias trabalhados: (365 dias/12 meses = 30,42 dias) x (5 dias (seg-sex) / 7 dias por semana) = 21,73 dias - [12 feriados no ano * (probabilidade de não coincidir com sábado e domingo 5/7) / 12 meses] = 21,01 dias/mês. Fator de conversão: correspondente a divisão de 60 minutos por 52,5 (decimal de 52'30") menos 1, resultando em 0,142857143.
B25: Módulo 2 - Encargos e Benefícios Anuais, Mensais e Diários
B26: Submódulo 2.1 - 13º (décimo terceiro) Salário, Férias e Adicional de Férias
E27: Aux. Adm. | F27: Analista Adm.
B28: 2.1 | C28: 13º (décimo terceiro) Salário, Férias e Adicional de Férias | D28: Percentual | E28: Valor (R$) | F28: Valor (R$)
B29: A | C29: 13º (décimo terceiro) Salário | D29: =(1/12) -> 0.083333333 | E29: =$D$29*E16 -> 163.21833 | F29: =$D$29*F16 -> 305.75333
B30: B | C30: Férias e Adicional de Férias (9,075% + 3,025%) | D30: 0.121 | E30: =$D$30*E16 -> 236.99302 | F30: =$D$30*F16 -> 443.95384
B31: Total | D31: =SUM(D29:D30) -> 0.20433333 | E31: =SUM(E29:E30) -> 400.21135 | F31: =SUM(F29:F30) -> 749.70717
B32: C | C32: Incidência dos Encargos do Submódulo 2.2 sobre o 13º salário, férias e adicional | D32: 0.0782 | E32: =$D$32*E16 -> 153.16408 | F32: =$D$32*F16 -> 286.91893
B33: Nota 1: Como a planilha de custos e formação de preços é calculada mensalmente, provisiona-se proporcionalmente 1/12 (um doze avos) dos valores referentes a gratificação natalina, férias e adicional de férias. (Redação dada pela Instrução Normativa nº 7, de 2018)
B34: Nota 2: O adicional de férias contido no Submódulo 2.1 corresponde a 1/3 (um terço) da remuneração que por sua vez é divido por 12 (doze) conforme Nota 1 acima.
B35: Nota 3: Levando em consideração a vigência contratual prevista no art. 57 da Lei nº 8.666, de 23 de junho de 1993, a rubrica férias tem como objetivo principal suprir a necessidade do pagamento das férias remuneradas ao final do contrato de 12 meses. Esta rubrica, quando da prorrogação contratual, torna-se custo não renovável. (Incluído pela Instrução Normativa nº 7, de 2018).
B36: Nota Equipe de Planejamento: Os percentuais utilizados foram retirados da tabela do Anexo XII da IN nº 05/2017. Em virtude da incidência contida na alínea "C" esses percentuais foram excluídos do Submódulo 2.2.
B37: Décimo Terceiro Salário: A gratificação natalina corresponderá a 1/12 avos da remuneração devida ao empregado: [(1/12)x100] = 8,33%.
B38: Férias e Adicional de Férias: Férias + abono de férias = 12,10% Férias: Definido na IN nº 5/2017 = 9,075% Abono de férias: IN nº 5/2017: 3,025% sobre a base de cálculo. OBS: A IN nº 5/2017 estabelece que as férias apresentem um percentual de 9,075%, logo, para calcular o abono, basta dividir 9,075/3 = 3,025%
B39: Incidência dos Encargos do Submódulo 2.2 sobre o 13º salário, férias e adicional: 36,80%*(9,09%+12,12%) = 7,82%. Foi considerado o percentual de 9,09% para o 13º Salário (1/11) e 12,10% para férias e adicional (1/11)+(1/3/11) segundo o Caderno de Logística de Conta Vinculada Ed. 2018 elaborado pelo então Ministério do Planejamento, Desenvolvimento e Gestão. Secretaria de Gestão.
B41: Submódulo 2.2 - Encargos Previdenciários (GPS), Fundo de Garantia por Tempo de Serviço (FGTS) e outras contribuições.
E42: Aux. Adm. | F42: Analista Adm.
B43: 2.2 | C43: GPS, FGTS e outras contribuições | D43: Percentual | E43: Valor (R$) | F43: Valor (R$)
B44: A | C44: INSS - Empregador | D44: 0.2
B45: B | C45: Salário Educação | D45: 0.025
...

Sheet CÁLCULO BENEFÍCIOS
B2: MEMÓRIA DE CÁLCULO DO SUBMÓDULO 2.3 - BENEFÍCIOS MENSAIS E DIÁRIOS
B4: CUSTO DA PASSAGEM
B5: Categoria | C5: Vr. Unitário | D5: Vales por dia | E5: Dias efetivamente trabalhados | F5: Custo total
B6: Apoio Administrativo - Nível Médio - TO | C6: 4.85 | D6: 2 | E6: 21 | F6: =C6*D6*E6 -> 203.7
B7: Apoio Administrativo - Nível Superior - TO | C7: 4.85 | D7: 2 | E7: 21 | F7: =C7*D7*E7 -> 203.7
B8: Valor unitário: valor da tarifa de ônibus na capital
B9: Valor do Vale: Conforme preço praticado em cada Capital.
B10: Vales por dia: quando não previstos na CCT, considera-se 02 (dois) vales transportes (ida e volta).
B11: Dias efetivamente trabalhados: consideram-se os dias efetivos da jornada de trabalho: 21 (vinte e um) dias para a jornada de 44 horas semanais. Adoção de 21 dias úteis no mês, para cálculo da estimativa de custo do Auxílio Alimentação e Vale-transporte, em decorrência dos seguintes aspectos: I - tendo como referência o Distrito Federal, apurou-se: 2021 - 251 dias úteis - média de 20,91 por mês; 2022 - 251 dias úteis - média de 20,91 por mês; 2023 - 249 dias úteis - média de 20,75 por mês; 2024 - 255 dias úteis - média de 21,25 por mês; 2025 - 254 dias úteis - média de 21,16 por mês; II - complementiamente, cita-se o Acórdão nº 1597/2010 - TCU/Plenário, que orienta pela adoção de 21 dias úteis por mês: "195. Considerando que no Brasil, ao computar os finais de semana e os feriados como dias não úteis, o número médio é de 21 dias úteis por mês, cada funcionário da contratada, ao regime de 8 horas diárias, trabalharia 168 horas (21x8) mensais ou 2016 horas anuais, totalizando 96 horas a menos do que as 2112 pagas por ano por funcionário."
B12: Custo total: valor mensal que será repassado ao empregado pelo empregador.
B14: DESCONTO DO VALE TRANSPORTE
B15: Categoria | C15: Base de cálculo | D15: Proporcionalidade | E15: Percentual | F15: Desconto
B16: Apoio Administrativo - Nível Médio - TO | C16: =POSTOS!E10 -> 1958.62 | D16: 1 | E16: 0.06 | F16: =C16*D16*E16 -> 117.5172
B17: Apoio Administrativo - Nível Superior - TO | C17: =POSTOS!F10 -> 3669.04 | D17: 1 | E17: 0.06 | F17: =C17*D17*E17 -> 220.1424
B19: CUSTO EFETIVO DO VALE TRANSPORTE
B20: Categoria | C20: Custo total | D20: Valor do desconto | E20: Custo efetivo
B21: Apoio Administrativo - Nível Médio - TO | C21: =F6 -> 203.7 | D21: =F16 -> 117.5172 | E21: =C21-D21 -> 86.1828
B22: Apoio Administrativo - Nível Superior - TO | C22: =F7 -> 203.7 | D22: =F17 -> 220.1424 | E22: =C22-D22 -> -16.4424
B24: AUXÍLIO ALIMENTAÇÃO
B25: Categoria | C25: Valor diário | D25: Dias efetivamente trabalhados | E25: Valor
B26: Apoio Administrativo - Nível Médio - TO | C26: 0 | D26: 21 | E26: 870.87
B27: Apoio Administrativo - Nível Superior - TO | C27: 0 | D27: 21 | E27: 870.87
B29: DESCONTO DO AUXÍLIO ALIMENTAÇÃO
B30: Categoria | C30: Base de cálculo | D30: Desconto Unitário | E30: Desconto
B31: Apoio Administrativo - Nível Médio - TO | C31: =E26 -> 870.87 | D31: 0 | E31: =C31*1% -> 8.7087
B32: Apoio Administrativo - Nível Superior - TO | C32: =E27 -> 870.87 | D32: 0 | E32: =C32*1% -> 8.7087
B34: CUSTO EFETIVO DO AUXÍLIO ALIMENTAÇÃO
B35: Categoria | C35: Custo total | D35: Desconto | E35: Custo efetivo
B36: Apoio Administrativo - Nível Médio - TO | C36: =E26 -> 870.87 | D36: =E31 -> 8.7087 | E36: =C36-D36 -> 862.1613
B37: Apoio Administrativo - Nível Superior - TO | C37: =E27 -> 870.87 | D37: =E32 -> 8.7087 | E37: =C37-D37 -> 862.1613
B39: BENEFÍCIO AUXÍLIO SAÚDE
B40: Categoria | C40: Custo total | D40: Desconto | E40: Custo efetivo
B41: Apoio Administrativo - Nível Médio - TO | C41: 0 | D41: 0 | E41: =C41-D41 -> 0
B42: Apoio Administrativo - Nível Superior - TO | C42: 0 | D42: 0 | E42: =C42-D42 -> 0
B44: SEGURO DE VIDA
B45: Categoria | C45: Custo total | D45: Desconto | E45: Custo efetivo
B46: Apoio Administrativo - Nível Médio - TO | C46: 12 | D46: 1.5 | E46: =C46-D46 -> 10.5
B47: Apoio Administrativo - Nível Superior - TO | C47: 12 | D47: 1.5 | E47: =C47-D47 -> 10.5
B49: BENEFÍCIO ASSISTÊNCIA ODONTOLÓGICA
B50: Categoria | C50: Custo total | D50: Desconto | E50: Custo efetivo
...

Sheet RELÓGIO DE PONTO
B1: RELÓGIO DE PONTO
B2: ITEM | C2: QTD | D2: Un. Medida | E2: Valor Anual | F2: Valor Mensal por Posto
B3: Relógio Ponto - SEMS TO | C3: 1 | D3: Unidade | E3: 2200 | F3: =(E3/12)/15 -> 12.222222

Sheet BENEFÍCIOS ANÁLISE
B2: Convenções Coletivas de Trabalho | C2: Benefício | D2: Valor Unitário | E2: Valor Total | F2: Desconto | G2: Valor Devido | H2: Acostado na Planilha? | I2: Fundamentação
B3: CCT 2025/2026 TOCANTINS - TO000044/2025 | C3: Auxílio Alimentação | D3: 870.87 | E3: 870.87 | F3: =E3*1% -> 8.7087 | G3: =E3-F3 -> 862.1613 | H3: Sim | I3: AUXÍLIO ALIMENTAÇÃO CLÁUSULA DÉCIMA QUARTA - AUXÍLIO ALIMENTAÇÃO A todos os funcionários das empresas de asseio e conservação (exceto coletores de lixo) abrangidas pela presente convenção coletiva de trabalho, o auxílio alimentação passará a ser de R$ 870,87 (Oitocentos e Setenta Reais e Oitenta e Sete Centavos) mensal em 01/01/2025 a 31/12/2025. (...) Parágrafo 5° - As empresas terão o direito de descontar dos empregados, em seus contracheques mensais, o correspondente até 1% (um por cento) do valor total do auxílio concedido no mês de competência.
C4: Auxílio Transporte | D4: 4.85 | E4: =D4*2*21 -> 203.7 | F4: 6% (seis por cento),incidente sobre o salário base do trabalhador | G4: A depender do salário de cada cargo | H4: Sim | I4: CLÁUSULA DÉCIMA SEGUNDA - TRANSPORTE DE TRABALHADORES As empresas concederão a seus empregados na forma da Legislação vigente 02 (dois) vales-transportes por dia trabalhado, que lhes serão entregues obrigatoriamente, todos de uma só vez, juntamente com o pagamento do mês anterior. Tarifa de ônibus em Palmas/TO - R$ 4,85 - Decreto nº 2.693, de 30 de abril de 2025.
C5: Seguro de Vida | D5: 12 | E5: 12 | F5: 1.5 | G5: =E5-F5 -> 10.5 | H5: Sim | I5: SEGURO DE VIDA CLÁUSULA DÉCIMA SÉTIMA - SEGURO DE VIDA As empresas contratarão Seguro de Vida com Auxílio Funeral e Familiar em favor de todos os seus empregados, nos termos do convênio e da apólice de seguro Estipulada por: SINDICATO DAS EMPRESAS DE ASSEIO, CONSERVAÇÃO, LIMPEZA URBANA E TERCEIRIZAÇÃO DE MÃO-DE-OBRA DO ESTADO DO TOCANTINS SEAC-TO -. As empresas que já possuam seguro de vida para seus empregados poderão deduzir dos capitais segurados os deste seguro obrigatório. Parágrafo 1° – Para o pagamento do seguro ora estipulado, as empresas poderão descontar mensalmente, em folha de pagamento, até o limite de R$ 1,50 (um real e cinquenta centavos) do empregado, que será repassado à Seguradora, sendo que a diferença a maior será custeado integralmente pelas empresas, conforme contrato firmado com a Seguradora.
C6: Amparo Social | D6: 21.88 | E6: 21.88 | F6: 0 | G6: =E6-F6 -> 21.88 | H6: Sim | I6: OUTROS ADICIONAIS CLÁUSULA DÉCIMA TERCEIRA - AMPARO SOCIAL A entidade sindical prestará indistintamente a todos os trabalhadores subordinados a esta Convenção Coletiva de trabalho, amparos sociais em caso de: gestação, nascimento de filho, acidente, enfermidade, aposentadoria, cursos de capacitação, incapacitação permanente ou falecimento, conforme tabela de benefícios definida pelos sindicados e discriminada no Manual de Orientações e Regras, por meio de organização gestora especializada e aprovada pelas entidades sindicais convenentes. Parágrafo 1° - Para garantir a viabilidade financeira deste benefício e mediante o consentimento expresso da entidade sindical profissional, as empresas contribuirão compulsoriamente, a título de contribuição social, até o dia 20 (vinte) de cada mês, com o valor de R$ 21,88 (vinte e um reais e oitenta e oito centavos) por trabalhador registrado. O pagamento será realizado exclusivamente por meio de boleto bancário, disponibilizado pela gestora escolhida pelas entidades sindicais.
